BEGIN:VCALENDAR
VERSION:2.0
PRODID:-//Cairn University - ECPv6.15.20//NONSGML v1.0//EN
CALSCALE:GREGORIAN
METHOD:PUBLISH
X-WR-CALNAME:Cairn University
X-ORIGINAL-URL:https://cairn.edu
X-WR-CALDESC:Events for Cairn University
REFRESH-INTERVAL;VALUE=DURATION:PT1H
X-Robots-Tag:noindex
X-PUBLISHED-TTL:PT1H
BEGIN:VTIMEZONE
TZID:America/New_York
BEGIN:DAYLIGHT
TZOFFSETFROM:-0500
TZOFFSETTO:-0400
TZNAME:EDT
DTSTART:20230312T070000
END:DAYLIGHT
BEGIN:STANDARD
TZOFFSETFROM:-0400
TZOFFSETTO:-0500
TZNAME:EST
DTSTART:20231105T060000
END:STANDARD
BEGIN:DAYLIGHT
TZOFFSETFROM:-0500
TZOFFSETTO:-0400
TZNAME:EDT
DTSTART:20240310T070000
END:DAYLIGHT
BEGIN:STANDARD
TZOFFSETFROM:-0400
TZOFFSETTO:-0500
TZNAME:EST
DTSTART:20241103T060000
END:STANDARD
BEGIN:DAYLIGHT
TZOFFSETFROM:-0500
TZOFFSETTO:-0400
TZNAME:EDT
DTSTART:20250309T070000
END:DAYLIGHT
BEGIN:STANDARD
TZOFFSETFROM:-0400
TZOFFSETTO:-0500
TZNAME:EST
DTSTART:20251102T060000
END:STANDARD
END:VTIMEZONE
BEGIN:VEVENT
DTSTART;TZID=America/New_York:20241206T160000
DTEND;TZID=America/New_York:20241206T160000
DTSTAMP:20260424T111035
CREATED:20240815T143931Z
LAST-MODIFIED:20240910T232214Z
UID:10001460-1733500800-1733500800@cairn.edu
SUMMARY:Christmas @ Cairn
DESCRIPTION:
URL:https://cairn.edu/event/christmas-cairn/
CATEGORIES:Concerts,Music & Theatre
ATTACH;FMTTYPE=image/jpeg:https://cairn.edu/wp-content/uploads/2024/08/Christmas-at-Cairn-scaled.jpg
ORGANIZER;CN="School of Music":MAILTO:music@cairn.edu
END:VEVENT
BEGIN:VEVENT
DTSTART;TZID=America/New_York:20241123T140000
DTEND;TZID=America/New_York:20241123T140000
DTSTAMP:20260424T111035
CREATED:20240815T143813Z
LAST-MODIFIED:20250221T192232Z
UID:10001461-1732370400-1732370400@cairn.edu
SUMMARY:Drama: Puss in Boots Night 2
DESCRIPTION:
URL:https://cairn.edu/event/drama-puss-in-boots-2/
CATEGORIES:Music & Theatre,Theatre Productions
ATTACH;FMTTYPE=image/jpeg:https://cairn.edu/wp-content/uploads/2024/08/Puss-in-Boots.jpg
ORGANIZER;CN="School of Music":MAILTO:music@cairn.edu
END:VEVENT
BEGIN:VEVENT
DTSTART;TZID=America/New_York:20241122T193000
DTEND;TZID=America/New_York:20241122T193000
DTSTAMP:20260424T111035
CREATED:20240815T143655Z
LAST-MODIFIED:20250221T192221Z
UID:10001462-1732303800-1732303800@cairn.edu
SUMMARY:Drama: Puss in Boots Night 1
DESCRIPTION:
URL:https://cairn.edu/event/drama-puss-in-boots/
CATEGORIES:Music & Theatre,Theatre Productions
ATTACH;FMTTYPE=image/jpeg:https://cairn.edu/wp-content/uploads/2024/08/Puss-in-Boots.jpg
ORGANIZER;CN="School of Music":MAILTO:music@cairn.edu
END:VEVENT
BEGIN:VEVENT
DTSTART;TZID=America/New_York:20241115T193000
DTEND;TZID=America/New_York:20241115T193000
DTSTAMP:20260424T111035
CREATED:20240815T143005Z
LAST-MODIFIED:20240910T232033Z
UID:10001463-1731699000-1731699000@cairn.edu
SUMMARY:Gospel Choir
DESCRIPTION:
URL:https://cairn.edu/event/gospel-choir/
CATEGORIES:Concerts,Music & Theatre
ATTACH;FMTTYPE=image/jpeg:https://cairn.edu/wp-content/uploads/2024/08/Gospel-Choir-scaled.jpg
ORGANIZER;CN="School of Music":MAILTO:music@cairn.edu
END:VEVENT
BEGIN:VEVENT
DTSTART;TZID=America/New_York:20241108T193000
DTEND;TZID=America/New_York:20241108T193000
DTSTAMP:20260424T111035
CREATED:20240814T214130Z
LAST-MODIFIED:20240910T231735Z
UID:10001459-1731094200-1731094200@cairn.edu
SUMMARY:Cairn Wind Ensemble | Cairn Symphony Orchestra
DESCRIPTION:
URL:https://cairn.edu/event/cairn-wind-ensemble-cairn-symphony-orchestra/
CATEGORIES:Concerts,Music & Theatre
ATTACH;FMTTYPE=image/jpeg:https://cairn.edu/wp-content/uploads/2024/08/Symphony.jpg
ORGANIZER;CN="School of Music":MAILTO:music@cairn.edu
END:VEVENT
BEGIN:VEVENT
DTSTART;TZID=America/New_York:20241101T193000
DTEND;TZID=America/New_York:20241101T193000
DTSTAMP:20260424T111035
CREATED:20240814T213710Z
LAST-MODIFIED:20240910T231654Z
UID:10001458-1730489400-1730489400@cairn.edu
SUMMARY:Opera Theater
DESCRIPTION:
URL:https://cairn.edu/event/opera-theater-2/
CATEGORIES:Theatre Productions
ATTACH;FMTTYPE=image/jpeg:https://cairn.edu/wp-content/uploads/2024/08/Opera-Theater-scaled.jpg
ORGANIZER;CN="School of Music":MAILTO:music@cairn.edu
END:VEVENT
BEGIN:VEVENT
DTSTART;TZID=America/New_York:20241029T193000
DTEND;TZID=America/New_York:20241029T193000
DTSTAMP:20260424T111035
CREATED:20240814T213423Z
LAST-MODIFIED:20240910T231551Z
UID:10001457-1730230200-1730230200@cairn.edu
SUMMARY:Jazz Ensemble
DESCRIPTION:
URL:https://cairn.edu/event/jazz-ensemble/
CATEGORIES:Concerts,Music & Theatre
ATTACH;FMTTYPE=image/jpeg:https://cairn.edu/wp-content/uploads/2024/08/Jazz-scaled.jpg
ORGANIZER;CN="School of Music":MAILTO:music@cairn.edu
END:VEVENT
BEGIN:VEVENT
DTSTART;TZID=America/New_York:20241020T150000
DTEND;TZID=America/New_York:20241020T150000
DTSTAMP:20260424T111035
CREATED:20240814T213019Z
LAST-MODIFIED:20240910T231204Z
UID:10001456-1729436400-1729436400@cairn.edu
SUMMARY:Hymn Sing
DESCRIPTION:
URL:https://cairn.edu/event/hymn-sing/
CATEGORIES:Music & Theatre
ATTACH;FMTTYPE=image/jpeg:https://cairn.edu/wp-content/uploads/2024/08/Hymn-Sing.jpg
ORGANIZER;CN="School of Music":MAILTO:music@cairn.edu
END:VEVENT
BEGIN:VEVENT
DTSTART;TZID=America/New_York:20240927T190000
DTEND;TZID=America/New_York:20240927T190000
DTSTAMP:20260424T111035
CREATED:20240814T211518Z
LAST-MODIFIED:20240814T211702Z
UID:10001454-1727463600-1727463600@cairn.edu
SUMMARY:All-Steinway Celebration
DESCRIPTION:
URL:https://cairn.edu/event/all-steinway-celebration/
CATEGORIES:Concerts,Music & Theatre
ORGANIZER;CN="School of Music":MAILTO:music@cairn.edu
END:VEVENT
END:VCALENDAR